BEGIN:VCALENDAR
VERSION:2.0
PRODID:-//14th Street Y - ECPv5.5.0.1//NONSGML v1.0//EN
CALSCALE:GREGORIAN
METHOD:PUBLISH
X-WR-CALNAME:14th Street Y
X-ORIGINAL-URL:https://www.14streety.org
X-WR-CALDESC:Events for 14th Street Y
BEGIN:VTIMEZONE
TZID:America/New_York
BEGIN:DAYLIGHT
TZOFFSETFROM:-0500
TZOFFSETTO:-0400
TZNAME:EDT
DTSTART:20180311T070000
END:DAYLIGHT
BEGIN:STANDARD
TZOFFSETFROM:-0400
TZOFFSETTO:-0500
TZNAME:EST
DTSTART:20181104T060000
END:STANDARD
END:VTIMEZONE
BEGIN:VEVENT
DTSTART;TZID=America/New_York:20180604T133000
DTEND;TZID=America/New_York:20180604T150000
DTSTAMP:20260422T072351
CREATED:20180108T233456Z
LAST-MODIFIED:20180108T233456Z
UID:71811-1528119000-1528124400@www.14streety.org
SUMMARY:Daytime Knitting Circle l 4th Floor Kitchen
DESCRIPTION:
URL:https://www.14streety.org/event/daytime-knitting-circle-l-4th-floor-kitchen/2018-06-04/
END:VEVENT
BEGIN:VEVENT
DTSTART;TZID=America/New_York:20180604T143000
DTEND;TZID=America/New_York:20180604T150000
DTSTAMP:20260422T072351
CREATED:20171217T180138Z
LAST-MODIFIED:20171217T202517Z
UID:56602-1528122600-1528124400@www.14streety.org
SUMMARY:Baby Belugas
DESCRIPTION:
URL:https://www.14streety.org/event/baby-belugas/2018-06-04/
END:VEVENT
BEGIN:VEVENT
DTSTART;TZID=America/New_York:20180604T150000
DTEND;TZID=America/New_York:20180604T153000
DTSTAMP:20260422T072351
CREATED:20171217T180438Z
LAST-MODIFIED:20171217T190249Z
UID:55661-1528124400-1528126200@www.14streety.org
SUMMARY:Little Dippers
DESCRIPTION:
URL:https://www.14streety.org/event/little-dippers/2018-06-04/
END:VEVENT
BEGIN:VEVENT
DTSTART;TZID=America/New_York:20180604T153000
DTEND;TZID=America/New_York:20180604T160000
DTSTAMP:20260422T072351
CREATED:20171217T181724Z
LAST-MODIFIED:20171218T025842Z
UID:58052-1528126200-1528128000@www.14streety.org
SUMMARY:Tadpoles
DESCRIPTION:
URL:https://www.14streety.org/event/tadpoles/2018-06-04/
END:VEVENT
BEGIN:VEVENT
DTSTART;TZID=America/New_York:20180604T153000
DTEND;TZID=America/New_York:20180604T160000
DTSTAMP:20260422T072351
CREATED:20171217T183615Z
LAST-MODIFIED:20171217T183615Z
UID:56149-1528126200-1528128000@www.14streety.org
SUMMARY:Sea Horses
DESCRIPTION:
URL:https://www.14streety.org/event/sea-horses/2018-06-04/
END:VEVENT
BEGIN:VEVENT
DTSTART;TZID=America/New_York:20180604T160000
DTEND;TZID=America/New_York:20180604T163000
DTSTAMP:20260422T072351
CREATED:20171217T181724Z
LAST-MODIFIED:20171218T025842Z
UID:58053-1528128000-1528129800@www.14streety.org
SUMMARY:Tadpoles
DESCRIPTION:
URL:https://www.14streety.org/event/tadpoles/2018-06-04/2/
END:VEVENT
BEGIN:VEVENT
DTSTART;TZID=America/New_York:20180604T160000
DTEND;TZID=America/New_York:20180604T163000
DTSTAMP:20260422T072351
CREATED:20171217T194017Z
LAST-MODIFIED:20171217T194017Z
UID:59495-1528128000-1528129800@www.14streety.org
SUMMARY:Special Needs
DESCRIPTION:
URL:https://www.14streety.org/event/special-needs/2018-06-04/
END:VEVENT
BEGIN:VEVENT
DTSTART;TZID=America/New_York:20180604T193000
DTEND;TZID=America/New_York:20180604T210000
DTSTAMP:20260422T072351
CREATED:20180507T191639Z
LAST-MODIFIED:20180507T193710Z
UID:75760-1528140600-1528146000@www.14streety.org
SUMMARY:Nasty Women
DESCRIPTION:Comedy meets theater in the 3rd #Nasty Women Show. Join us for an all-female ensemble of stand-up comedians and a special theater performance. Hashtags\, gasps\, banned words\, and every emoji welcome.
URL:https://www.14streety.org/event/nasty-women/
ATTACH;FMTTYPE=image/jpeg:https://www.14streety.org/wp-content/uploads/2017/12/nasty_women_312x232-copy.jpg
END:VEVENT
END:VCALENDAR