BEGIN:VCALENDAR
VERSION:2.0
PRODID:-//14th Street Y - ECPv5.5.0.1//NONSGML v1.0//EN
CALSCALE:GREGORIAN
METHOD:PUBLISH
X-WR-CALNAME:14th Street Y
X-ORIGINAL-URL:https://www.14streety.org
X-WR-CALDESC:Events for 14th Street Y
BEGIN:VTIMEZONE
TZID:America/New_York
BEGIN:DAYLIGHT
TZOFFSETFROM:-0500
TZOFFSETTO:-0400
TZNAME:EDT
DTSTART:20180311T070000
END:DAYLIGHT
BEGIN:STANDARD
TZOFFSETFROM:-0400
TZOFFSETTO:-0500
TZNAME:EST
DTSTART:20181104T060000
END:STANDARD
END:VTIMEZONE
BEGIN:VEVENT
DTSTART;TZID=America/New_York:20180603T090000
DTEND;TZID=America/New_York:20180603T093000
DTSTAMP:20260422T162938
CREATED:20171217T180138Z
LAST-MODIFIED:20171217T202516Z
UID:56600-1528016400-1528018200@www.14streety.org
SUMMARY:Baby Belugas
DESCRIPTION:
URL:https://www.14streety.org/event/baby-belugas/2018-06-03/
END:VEVENT
BEGIN:VEVENT
DTSTART;TZID=America/New_York:20180603T100000
DTEND;TZID=America/New_York:20180603T103000
DTSTAMP:20260422T162938
CREATED:20171217T180831Z
LAST-MODIFIED:20171218T072851Z
UID:57505-1528020000-1528021800@www.14streety.org
SUMMARY:Big Fish
DESCRIPTION:
URL:https://www.14streety.org/event/big-fish/2018-06-03/
END:VEVENT
BEGIN:VEVENT
DTSTART;TZID=America/New_York:20180603T120000
DTEND;TZID=America/New_York:20180603T123000
DTSTAMP:20260422T162938
CREATED:20171217T181724Z
LAST-MODIFIED:20171218T025841Z
UID:58050-1528027200-1528029000@www.14streety.org
SUMMARY:Tadpoles
DESCRIPTION:
URL:https://www.14streety.org/event/tadpoles/2018-06-03/
END:VEVENT
BEGIN:VEVENT
DTSTART;TZID=America/New_York:20180603T120000
DTEND;TZID=America/New_York:20180603T123000
DTSTAMP:20260422T162938
CREATED:20171217T192243Z
LAST-MODIFIED:20171217T192243Z
UID:61611-1528027200-1528029000@www.14streety.org
SUMMARY:Otters
DESCRIPTION:
URL:https://www.14streety.org/event/otters/2018-06-03/
END:VEVENT
BEGIN:VEVENT
DTSTART;TZID=America/New_York:20180603T123000
DTEND;TZID=America/New_York:20180603T130000
DTSTAMP:20260422T162938
CREATED:20171217T181724Z
LAST-MODIFIED:20171218T025841Z
UID:58051-1528029000-1528030800@www.14streety.org
SUMMARY:Tadpoles
DESCRIPTION:
URL:https://www.14streety.org/event/tadpoles/2018-06-03/2/
END:VEVENT
BEGIN:VEVENT
DTSTART;TZID=America/New_York:20180603T123000
DTEND;TZID=America/New_York:20180603T130000
DTSTAMP:20260422T162938
CREATED:20171217T192243Z
LAST-MODIFIED:20171217T192243Z
UID:61612-1528029000-1528030800@www.14streety.org
SUMMARY:Otters
DESCRIPTION:
URL:https://www.14streety.org/event/otters/2018-06-03/2/
END:VEVENT
BEGIN:VEVENT
DTSTART;TZID=America/New_York:20180603T130000
DTEND;TZID=America/New_York:20180603T133000
DTSTAMP:20260422T162938
CREATED:20171217T192700Z
LAST-MODIFIED:20171217T192700Z
UID:59030-1528030800-1528032600@www.14streety.org
SUMMARY:Dolphins
DESCRIPTION:
URL:https://www.14streety.org/event/dolphins/2018-06-03/
END:VEVENT
BEGIN:VEVENT
DTSTART;TZID=America/New_York:20180603T130000
DTEND;TZID=America/New_York:20180603T133000
DTSTAMP:20260422T162938
CREATED:20171217T193329Z
LAST-MODIFIED:20171217T193329Z
UID:59262-1528030800-1528032600@www.14streety.org
SUMMARY:Sharks
DESCRIPTION:
URL:https://www.14streety.org/event/sharks/2018-06-03/
END:VEVENT
BEGIN:VEVENT
DTSTART;TZID=America/New_York:20180603T133000
DTEND;TZID=America/New_York:20180603T140000
DTSTAMP:20260422T162938
CREATED:20171217T180138Z
LAST-MODIFIED:20171217T202517Z
UID:56601-1528032600-1528034400@www.14streety.org
SUMMARY:Baby Belugas
DESCRIPTION:
URL:https://www.14streety.org/event/baby-belugas/2018-06-03/2/
END:VEVENT
END:VCALENDAR