BEGIN:VCALENDAR
VERSION:2.0
PRODID:-//14th Street Y - ECPv5.5.0.1//NONSGML v1.0//EN
CALSCALE:GREGORIAN
METHOD:PUBLISH
X-WR-CALNAME:14th Street Y
X-ORIGINAL-URL:https://www.14streety.org
X-WR-CALDESC:Events for 14th Street Y
BEGIN:VTIMEZONE
TZID:America/New_York
BEGIN:DAYLIGHT
TZOFFSETFROM:-0500
TZOFFSETTO:-0400
TZNAME:EDT
DTSTART:20180311T070000
END:DAYLIGHT
BEGIN:STANDARD
TZOFFSETFROM:-0400
TZOFFSETTO:-0500
TZNAME:EST
DTSTART:20181104T060000
END:STANDARD
END:VTIMEZONE
BEGIN:VEVENT
DTSTART;TZID=America/New_York:20180602T090000
DTEND;TZID=America/New_York:20180602T093000
DTSTAMP:20260421T183623
CREATED:20171217T180138Z
LAST-MODIFIED:20171217T202516Z
UID:56598-1527930000-1527931800@www.14streety.org
SUMMARY:Baby Belugas
DESCRIPTION:
URL:https://www.14streety.org/event/baby-belugas/2018-06-02/
END:VEVENT
BEGIN:VEVENT
DTSTART;TZID=America/New_York:20180602T100000
DTEND;TZID=America/New_York:20180602T103000
DTSTAMP:20260421T183623
CREATED:20171217T180831Z
LAST-MODIFIED:20171218T072850Z
UID:57503-1527933600-1527935400@www.14streety.org
SUMMARY:Big Fish
DESCRIPTION:
URL:https://www.14streety.org/event/big-fish/2018-06-02/
END:VEVENT
BEGIN:VEVENT
DTSTART;TZID=America/New_York:20180602T113000
DTEND;TZID=America/New_York:20180602T120000
DTSTAMP:20260421T183623
CREATED:20171217T180831Z
LAST-MODIFIED:20171218T072850Z
UID:57504-1527939000-1527940800@www.14streety.org
SUMMARY:Big Fish
DESCRIPTION:
URL:https://www.14streety.org/event/big-fish/2018-06-02/2/
END:VEVENT
BEGIN:VEVENT
DTSTART;TZID=America/New_York:20180602T123000
DTEND;TZID=America/New_York:20180602T130000
DTSTAMP:20260421T183623
CREATED:20171217T181724Z
LAST-MODIFIED:20171218T025841Z
UID:58049-1527942600-1527944400@www.14streety.org
SUMMARY:Tadpoles
DESCRIPTION:
URL:https://www.14streety.org/event/tadpoles/2018-06-02/
END:VEVENT
BEGIN:VEVENT
DTSTART;TZID=America/New_York:20180602T133000
DTEND;TZID=America/New_York:20180602T140000
DTSTAMP:20260421T183623
CREATED:20171217T180138Z
LAST-MODIFIED:20171217T202516Z
UID:56599-1527946200-1527948000@www.14streety.org
SUMMARY:Baby Belugas
DESCRIPTION:
URL:https://www.14streety.org/event/baby-belugas/2018-06-02/2/
END:VEVENT
BEGIN:VEVENT
DTSTART;TZID=America/New_York:20180602T160000
DTEND;TZID=America/New_York:20180602T163000
DTSTAMP:20260421T183623
CREATED:20171217T194017Z
LAST-MODIFIED:20171217T194017Z
UID:59492-1527955200-1527957000@www.14streety.org
SUMMARY:Special Needs
DESCRIPTION:
URL:https://www.14streety.org/event/special-needs/2018-06-02/
END:VEVENT
BEGIN:VEVENT
DTSTART;TZID=America/New_York:20180602T163000
DTEND;TZID=America/New_York:20180602T170000
DTSTAMP:20260421T183623
CREATED:20171217T194017Z
LAST-MODIFIED:20171217T194017Z
UID:59494-1527957000-1527958800@www.14streety.org
SUMMARY:Special Needs
DESCRIPTION:
URL:https://www.14streety.org/event/special-needs/2018-06-02/
END:VEVENT
END:VCALENDAR