BEGIN:VCALENDAR
VERSION:2.0
PRODID:-//14th Street Y - ECPv5.5.0.1//NONSGML v1.0//EN
CALSCALE:GREGORIAN
METHOD:PUBLISH
X-WR-CALNAME:14th Street Y
X-ORIGINAL-URL:https://www.14streety.org
X-WR-CALDESC:Events for 14th Street Y
BEGIN:VTIMEZONE
TZID:America/New_York
BEGIN:DAYLIGHT
TZOFFSETFROM:-0500
TZOFFSETTO:-0400
TZNAME:EDT
DTSTART:20180311T070000
END:DAYLIGHT
BEGIN:STANDARD
TZOFFSETFROM:-0400
TZOFFSETTO:-0500
TZNAME:EST
DTSTART:20181104T060000
END:STANDARD
END:VTIMEZONE
BEGIN:VEVENT
DTSTART;TZID=America/New_York:20180527T090000
DTEND;TZID=America/New_York:20180527T093000
DTSTAMP:20260422T020904
CREATED:20171217T180138Z
LAST-MODIFIED:20171217T202512Z
UID:56591-1527411600-1527413400@www.14streety.org
SUMMARY:Baby Belugas
DESCRIPTION:
URL:https://www.14streety.org/event/baby-belugas/2018-05-27/
END:VEVENT
BEGIN:VEVENT
DTSTART;TZID=America/New_York:20180527T100000
DTEND;TZID=America/New_York:20180527T103000
DTSTAMP:20260422T020904
CREATED:20171217T180831Z
LAST-MODIFIED:20171218T072848Z
UID:57498-1527415200-1527417000@www.14streety.org
SUMMARY:Big Fish
DESCRIPTION:
URL:https://www.14streety.org/event/big-fish/2018-05-27/
END:VEVENT
BEGIN:VEVENT
DTSTART;TZID=America/New_York:20180527T120000
DTEND;TZID=America/New_York:20180527T123000
DTSTAMP:20260422T020904
CREATED:20171217T181724Z
LAST-MODIFIED:20171218T025837Z
UID:58039-1527422400-1527424200@www.14streety.org
SUMMARY:Tadpoles
DESCRIPTION:
URL:https://www.14streety.org/event/tadpoles/2018-05-27/
END:VEVENT
BEGIN:VEVENT
DTSTART;TZID=America/New_York:20180527T120000
DTEND;TZID=America/New_York:20180527T123000
DTSTAMP:20260422T020904
CREATED:20171217T192243Z
LAST-MODIFIED:20171217T192243Z
UID:61605-1527422400-1527424200@www.14streety.org
SUMMARY:Otters
DESCRIPTION:
URL:https://www.14streety.org/event/otters/2018-05-27/
END:VEVENT
BEGIN:VEVENT
DTSTART;TZID=America/New_York:20180527T123000
DTEND;TZID=America/New_York:20180527T130000
DTSTAMP:20260422T020904
CREATED:20171217T181724Z
LAST-MODIFIED:20171218T025837Z
UID:58040-1527424200-1527426000@www.14streety.org
SUMMARY:Tadpoles
DESCRIPTION:
URL:https://www.14streety.org/event/tadpoles/2018-05-27/2/
END:VEVENT
BEGIN:VEVENT
DTSTART;TZID=America/New_York:20180527T123000
DTEND;TZID=America/New_York:20180527T130000
DTSTAMP:20260422T020904
CREATED:20171217T192243Z
LAST-MODIFIED:20171217T192243Z
UID:61606-1527424200-1527426000@www.14streety.org
SUMMARY:Otters
DESCRIPTION:
URL:https://www.14streety.org/event/otters/2018-05-27/2/
END:VEVENT
BEGIN:VEVENT
DTSTART;TZID=America/New_York:20180527T130000
DTEND;TZID=America/New_York:20180527T133000
DTSTAMP:20260422T020904
CREATED:20171217T192700Z
LAST-MODIFIED:20171217T192700Z
UID:59028-1527426000-1527427800@www.14streety.org
SUMMARY:Dolphins
DESCRIPTION:
URL:https://www.14streety.org/event/dolphins/2018-05-27/
END:VEVENT
BEGIN:VEVENT
DTSTART;TZID=America/New_York:20180527T130000
DTEND;TZID=America/New_York:20180527T133000
DTSTAMP:20260422T020904
CREATED:20171217T193329Z
LAST-MODIFIED:20171217T193329Z
UID:59260-1527426000-1527427800@www.14streety.org
SUMMARY:Sharks
DESCRIPTION:
URL:https://www.14streety.org/event/sharks/2018-05-27/
END:VEVENT
BEGIN:VEVENT
DTSTART;TZID=America/New_York:20180527T133000
DTEND;TZID=America/New_York:20180527T140000
DTSTAMP:20260422T020904
CREATED:20171217T180138Z
LAST-MODIFIED:20171217T202513Z
UID:56592-1527427800-1527429600@www.14streety.org
SUMMARY:Baby Belugas
DESCRIPTION:
URL:https://www.14streety.org/event/baby-belugas/2018-05-27/2/
END:VEVENT
END:VCALENDAR