BEGIN:VCALENDAR
VERSION:2.0
PRODID:-//14th Street Y - ECPv5.5.0.1//NONSGML v1.0//EN
CALSCALE:GREGORIAN
METHOD:PUBLISH
X-WR-CALNAME:14th Street Y
X-ORIGINAL-URL:https://www.14streety.org
X-WR-CALDESC:Events for 14th Street Y
BEGIN:VTIMEZONE
TZID:America/New_York
BEGIN:DAYLIGHT
TZOFFSETFROM:-0500
TZOFFSETTO:-0400
TZNAME:EDT
DTSTART:20180311T070000
END:DAYLIGHT
BEGIN:STANDARD
TZOFFSETFROM:-0400
TZOFFSETTO:-0500
TZNAME:EST
DTSTART:20181104T060000
END:STANDARD
END:VTIMEZONE
BEGIN:VEVENT
DTSTART;TZID=America/New_York:20180526T090000
DTEND;TZID=America/New_York:20180526T093000
DTSTAMP:20260422T202244
CREATED:20171217T180138Z
LAST-MODIFIED:20171217T202511Z
UID:56589-1527325200-1527327000@www.14streety.org
SUMMARY:Baby Belugas
DESCRIPTION:
URL:https://www.14streety.org/event/baby-belugas/2018-05-26/
END:VEVENT
BEGIN:VEVENT
DTSTART;TZID=America/New_York:20180526T100000
DTEND;TZID=America/New_York:20180526T103000
DTSTAMP:20260422T202244
CREATED:20171217T180831Z
LAST-MODIFIED:20171218T072847Z
UID:57496-1527328800-1527330600@www.14streety.org
SUMMARY:Big Fish
DESCRIPTION:
URL:https://www.14streety.org/event/big-fish/2018-05-26/
END:VEVENT
BEGIN:VEVENT
DTSTART;TZID=America/New_York:20180526T113000
DTEND;TZID=America/New_York:20180526T120000
DTSTAMP:20260422T202244
CREATED:20171217T180831Z
LAST-MODIFIED:20171218T072848Z
UID:57497-1527334200-1527336000@www.14streety.org
SUMMARY:Big Fish
DESCRIPTION:
URL:https://www.14streety.org/event/big-fish/2018-05-26/2/
END:VEVENT
BEGIN:VEVENT
DTSTART;TZID=America/New_York:20180526T123000
DTEND;TZID=America/New_York:20180526T130000
DTSTAMP:20260422T202244
CREATED:20171217T181724Z
LAST-MODIFIED:20171218T025837Z
UID:58038-1527337800-1527339600@www.14streety.org
SUMMARY:Tadpoles
DESCRIPTION:
URL:https://www.14streety.org/event/tadpoles/2018-05-26/
END:VEVENT
BEGIN:VEVENT
DTSTART;TZID=America/New_York:20180526T133000
DTEND;TZID=America/New_York:20180526T140000
DTSTAMP:20260422T202244
CREATED:20171217T180138Z
LAST-MODIFIED:20171217T202512Z
UID:56590-1527341400-1527343200@www.14streety.org
SUMMARY:Baby Belugas
DESCRIPTION:
URL:https://www.14streety.org/event/baby-belugas/2018-05-26/2/
END:VEVENT
BEGIN:VEVENT
DTSTART;TZID=America/New_York:20180526T160000
DTEND;TZID=America/New_York:20180526T163000
DTSTAMP:20260422T202244
CREATED:20171217T194017Z
LAST-MODIFIED:20171217T194017Z
UID:59489-1527350400-1527352200@www.14streety.org
SUMMARY:Special Needs
DESCRIPTION:
URL:https://www.14streety.org/event/special-needs/2018-05-26/
END:VEVENT
BEGIN:VEVENT
DTSTART;TZID=America/New_York:20180526T163000
DTEND;TZID=America/New_York:20180526T170000
DTSTAMP:20260422T202244
CREATED:20171217T194017Z
LAST-MODIFIED:20171217T194017Z
UID:59490-1527352200-1527354000@www.14streety.org
SUMMARY:Special Needs
DESCRIPTION:
URL:https://www.14streety.org/event/special-needs/2018-05-26/2/
END:VEVENT
END:VCALENDAR