BEGIN:VCALENDAR
VERSION:2.0
PRODID:-//14th Street Y - ECPv5.5.0.1//NONSGML v1.0//EN
CALSCALE:GREGORIAN
METHOD:PUBLISH
X-WR-CALNAME:14th Street Y
X-ORIGINAL-URL:https://www.14streety.org
X-WR-CALDESC:Events for 14th Street Y
BEGIN:VTIMEZONE
TZID:America/New_York
BEGIN:DAYLIGHT
TZOFFSETFROM:-0500
TZOFFSETTO:-0400
TZNAME:EDT
DTSTART:20180311T070000
END:DAYLIGHT
BEGIN:STANDARD
TZOFFSETFROM:-0400
TZOFFSETTO:-0500
TZNAME:EST
DTSTART:20181104T060000
END:STANDARD
END:VTIMEZONE
BEGIN:VEVENT
DTSTART;TZID=America/New_York:20180421T130000
DTEND;TZID=America/New_York:20180421T140000
DTSTAMP:20260424T102313
CREATED:20180402T141457Z
LAST-MODIFIED:20180402T142412Z
UID:75159-1524315600-1524319200@www.14streety.org
SUMMARY:Meditation Pop-Up
DESCRIPTION:Saturday Fitness Pop-up: Meditation with Patricia\nLearn techniques to help focus your attention and calm the mind. Appropriate for all levels. \nThis event is taking place in the community room. \nFree for members. Non-members can purchase a $25 Day Pass at the front desk to attend.
URL:https://www.14streety.org/event/meditation-pop-up/
LOCATION:14th Street Y\, 344 East 14th Street\, New York\, NY\, 10003
ATTACH;FMTTYPE=image/png:https://www.14streety.org/wp-content/uploads/2018/03/Meditation-Pop-up.png
GEO:40.7312884;-73.9832952
X-APPLE-STRUCTURED-LOCATION;VALUE=URI;X-ADDRESS=14th Street Y 344 East 14th Street New York NY 10003;X-APPLE-RADIUS=500;X-TITLE=344 East 14th Street:geo:-73.9832952,40.7312884
END:VEVENT
END:VCALENDAR