BEGIN:VCALENDAR
VERSION:2.0
PRODID:-//14th Street Y - ECPv5.5.0.1//NONSGML v1.0//EN
CALSCALE:GREGORIAN
METHOD:PUBLISH
X-WR-CALNAME:14th Street Y
X-ORIGINAL-URL:https://www.14streety.org
X-WR-CALDESC:Events for 14th Street Y
BEGIN:VTIMEZONE
TZID:America/New_York
BEGIN:DAYLIGHT
TZOFFSETFROM:-0500
TZOFFSETTO:-0400
TZNAME:EDT
DTSTART:20180311T070000
END:DAYLIGHT
BEGIN:STANDARD
TZOFFSETFROM:-0400
TZOFFSETTO:-0500
TZNAME:EST
DTSTART:20181104T060000
END:STANDARD
END:VTIMEZONE
BEGIN:VEVENT
DTSTART;TZID=America/New_York:20180326T114500
DTEND;TZID=America/New_York:20180326T124500
DTSTAMP:20260423T030416
CREATED:20180320T205921Z
LAST-MODIFIED:20180320T205921Z
UID:75114-1522064700-1522068300@www.14streety.org
SUMMARY:Silver Siren Cheer
DESCRIPTION:Silver Siren Cheer and Make Your Own Electrolyte Drink\nMonday\, March 26 | 11:45 AM – 12:45 PM\nCommunity Room B\nThe Silver Sirens are looking for new recruits! We will be creating some new cheers as well as a guidebook this time around. We will start our meeting with a session of making our own wholesome electrolyte drinks. \nFree for members and non-members.\n \n  \n 
URL:https://www.14streety.org/event/silver-siren-cheer/
ATTACH;FMTTYPE=image/png:https://www.14streety.org/wp-content/uploads/2018/03/silver-sirens-hero.png
END:VEVENT
END:VCALENDAR