BEGIN:VCALENDAR
VERSION:2.0
PRODID:-//14th Street Y - ECPv5.5.0.1//NONSGML v1.0//EN
CALSCALE:GREGORIAN
METHOD:PUBLISH
X-WR-CALNAME:14th Street Y
X-ORIGINAL-URL:https://www.14streety.org
X-WR-CALDESC:Events for 14th Street Y
BEGIN:VTIMEZONE
TZID:America/New_York
BEGIN:DAYLIGHT
TZOFFSETFROM:-0500
TZOFFSETTO:-0400
TZNAME:EDT
DTSTART:20180311T070000
END:DAYLIGHT
BEGIN:STANDARD
TZOFFSETFROM:-0400
TZOFFSETTO:-0500
TZNAME:EST
DTSTART:20181104T060000
END:STANDARD
END:VTIMEZONE
BEGIN:VEVENT
DTSTART;TZID=America/New_York:20180219T084500
DTEND;TZID=America/New_York:20180224T140000
DTSTAMP:20260424T115521
CREATED:20180131T190436Z
LAST-MODIFIED:20180131T211537Z
UID:73633-1519029900-1519480800@www.14streety.org
SUMMARY:Playdate with Childcare
DESCRIPTION:During mid-winter break\, schedule a playdate at the 14th Street Y for your child while you workout in our fitness center or attend a class!\nAvailable February 19 – February 24 | 8:45 AM – 2:00 PM\nYour children will enjoy playing together in a warm\, safe environment\, and you can spend some time focusing on yourself. \nPlease remain on the premises when your child is in our childcare room. \nCost: $5/hour for members only. For ages 6 months – 6 years. \nNot a member? Take advantage of a $25 Day Pass and receive 2 FREE hours of childcare for up to 3 children! You can purchase your day pass at the front desk. \nLearn More About Childcare
URL:https://www.14streety.org/event/playdate-with-childcare/
ATTACH;FMTTYPE=image/png:https://www.14streety.org/wp-content/uploads/2018/01/Playdate-with-childcare.png
END:VEVENT
BEGIN:VEVENT
DTSTART;TZID=America/New_York:20180221T183000
DTEND;TZID=America/New_York:20180221T213000
DTSTAMP:20260424T115521
CREATED:20180130T192908Z
LAST-MODIFIED:20180130T211343Z
UID:73609-1519237800-1519248600@www.14streety.org
SUMMARY:Compassionate Conversations: Conflict Resolution Workshop
DESCRIPTION:Please join the Muslim-Jewish Solidarity Committee for another exciting workshop in our Compassionate Conversations program.\nConflict resolution specialist\, Jessica Baen\, will introduce key conflict resolution techniques to facilitate effective communication across differences. Through hands-on exercises\, we will explore how we approach conflict\, what triggers us\, and what challenges we need to overcome in order to have more productive conversations. \nNo prior training necessary. Refreshments will be served. This event will be held in the 14th Street Y Community Room. \nAbout Jessica Baen:\nJessica Baen is a conflict resolution professional with expertise in mediation\, intercultural communication\, and human rights advocacy. She has conducted research in Timor Leste\, India\, Syria\, Palestine and Israel. She is a Senior Facilitator with Soliya\, an NGO that convenes intercultural dialogues between university students in the Middle East and the West\, and is active with New York City-based community organizations to promote immigrant rights and combat religious prejudice. Jessica previously served as a Staff Research Associate at the Arnold A. Saltzman Institute of War and Peace Studies at the School of International and Public Affairs at Columbia University and recently founded a new initiative: The Dialogue Experiment: Talking Through Red and Blue. She holds a Master in Public Affairs Degree from the Woodrow Wilson School of Public and International Affairs at Princeton University.
URL:https://www.14streety.org/event/conflict-resolution-workshop/
LOCATION:14th Street Y\, 344 East 14th Street\, New York\, NY\, 10003
ATTACH;FMTTYPE=image/png:https://www.14streety.org/wp-content/uploads/2018/01/Conflict-Resolution-Workshop.png
GEO:40.7312884;-73.9832952
X-APPLE-STRUCTURED-LOCATION;VALUE=URI;X-ADDRESS=14th Street Y 344 East 14th Street New York NY 10003;X-APPLE-RADIUS=500;X-TITLE=344 East 14th Street:geo:-73.9832952,40.7312884
END:VEVENT
END:VCALENDAR