BEGIN:VCALENDAR
VERSION:2.0
PRODID:-//14th Street Y - ECPv5.5.0.1//NONSGML v1.0//EN
CALSCALE:GREGORIAN
METHOD:PUBLISH
X-WR-CALNAME:14th Street Y
X-ORIGINAL-URL:https://www.14streety.org
X-WR-CALDESC:Events for 14th Street Y
BEGIN:VTIMEZONE
TZID:America/New_York
BEGIN:DAYLIGHT
TZOFFSETFROM:-0500
TZOFFSETTO:-0400
TZNAME:EDT
DTSTART:20180311T070000
END:DAYLIGHT
BEGIN:STANDARD
TZOFFSETFROM:-0400
TZOFFSETTO:-0500
TZNAME:EST
DTSTART:20181104T060000
END:STANDARD
END:VTIMEZONE
BEGIN:VEVENT
DTSTART;TZID=America/New_York:20180131T170000
DTEND;TZID=America/New_York:20180131T200000
DTSTAMP:20260424T121144
CREATED:20180123T191917Z
LAST-MODIFIED:20180126T202325Z
UID:73320-1517418000-1517428800@www.14streety.org
SUMMARY:Canarsie Tunnel Open House
DESCRIPTION:Join the Metropolitan Transportation Authority (MTA) and the NYC Department of Transportation for an open house to learn and ask questions about plans for the 15-month closure of the Canarsie Tunnel\, beginning April 2019. \nWednesday\, January 31 | 5PM – 8PM\nThis event will be held in the 14th Street Y Gymnasium. \n  \nMore information:\nNeighbors and officials discuss new details about detours during L train shutdown\, PIX 11\, January 24\, 2018 \nMTA and DOT hold open house ahead of L-train subway shutdown\, ABC 7\, January 24\, 2018 \n 
URL:https://www.14streety.org/event/canarsie-tunnel-open-house/
ATTACH;FMTTYPE=image/png:https://www.14streety.org/wp-content/uploads/2018/01/L-Open-House.png
END:VEVENT
END:VCALENDAR