BEGIN:VCALENDAR
VERSION:2.0
PRODID:-//14th Street Y - ECPv5.5.0.1//NONSGML v1.0//EN
CALSCALE:GREGORIAN
METHOD:PUBLISH
X-WR-CALNAME:14th Street Y
X-ORIGINAL-URL:https://www.14streety.org
X-WR-CALDESC:Events for 14th Street Y
BEGIN:VTIMEZONE
TZID:America/New_York
BEGIN:DAYLIGHT
TZOFFSETFROM:-0500
TZOFFSETTO:-0400
TZNAME:EDT
DTSTART:20180311T070000
END:DAYLIGHT
BEGIN:STANDARD
TZOFFSETFROM:-0400
TZOFFSETTO:-0500
TZNAME:EST
DTSTART:20181104T060000
END:STANDARD
END:VTIMEZONE
BEGIN:VEVENT
DTSTART;TZID=America/New_York:20180120T130000
DTEND;TZID=America/New_York:20180120T141500
DTSTAMP:20260424T152637
CREATED:20180103T154909Z
LAST-MODIFIED:20180103T173256Z
UID:69647-1516453200-1516457700@www.14streety.org
SUMMARY:Holistic Moroccan Belly Dancing Workshop
DESCRIPTION:This workshop combines Belly Dance with Moroccan Berber folklore\, while focusing on the organic movement of the body and using elements of trance. \nFree for members. Non-members can purchase a $25 Day Pass at the front desk to attend.
URL:https://www.14streety.org/event/holistic-moroccan-belly-dancing-workshop/
ATTACH;FMTTYPE=image/png:https://www.14streety.org/wp-content/uploads/2018/01/Holistic-Moroccan-Belly-Dancing-Workshop.png
END:VEVENT
END:VCALENDAR