BEGIN:VCALENDAR
VERSION:2.0
PRODID:-//14th Street Y - ECPv5.5.0.1//NONSGML v1.0//EN
CALSCALE:GREGORIAN
METHOD:PUBLISH
X-WR-CALNAME:14th Street Y
X-ORIGINAL-URL:https://www.14streety.org
X-WR-CALDESC:Events for 14th Street Y
BEGIN:VTIMEZONE
TZID:America/New_York
BEGIN:DAYLIGHT
TZOFFSETFROM:-0500
TZOFFSETTO:-0400
TZNAME:EDT
DTSTART:20170312T070000
END:DAYLIGHT
BEGIN:STANDARD
TZOFFSETFROM:-0400
TZOFFSETTO:-0500
TZNAME:EST
DTSTART:20171105T060000
END:STANDARD
END:VTIMEZONE
BEGIN:VEVENT
DTSTART;TZID=America/New_York:20171207T181500
DTEND;TZID=America/New_York:20171207T191500
DTSTAMP:20260419T190321
CREATED:20171202T220238Z
LAST-MODIFIED:20180607T140434Z
UID:38230-1512670500-1512674100@www.14streety.org
SUMMARY:YAMUNA	BODY ROLLING with Karen | Room 403
DESCRIPTION:Using balls of different sizes\, Yamuna Body Rolling helps to release tension and realign muscles while freeing up natural energy from within. Following intelligent sequences\, this practice is appropriate for many different people with different levels of flexibility. Plus it feels like a massage! Participants should be comfortable practicing on a mat on the floor. \nPLEASE NOTE: All equipment provided. Classes are free for members except where indicated ($). Non-Members can attend with purchase of a Day Pass. Non-Members can attend Mommy & Me classes with purchase of a 5-class Punch Card. See Service Desk for details. Classes are subject to change without notice.
URL:https://www.14streety.org/event/yamunabody-rolling-karen-room-403/
END:VEVENT
END:VCALENDAR