BEGIN:VCALENDAR
VERSION:2.0
PRODID:-//14th Street Y - ECPv5.5.0.1//NONSGML v1.0//EN
CALSCALE:GREGORIAN
METHOD:PUBLISH
X-WR-CALNAME:14th Street Y
X-ORIGINAL-URL:https://www.14streety.org
X-WR-CALDESC:Events for 14th Street Y
BEGIN:VTIMEZONE
TZID:America/New_York
BEGIN:DAYLIGHT
TZOFFSETFROM:-0500
TZOFFSETTO:-0400
TZNAME:EDT
DTSTART:20180311T070000
END:DAYLIGHT
BEGIN:STANDARD
TZOFFSETFROM:-0400
TZOFFSETTO:-0500
TZNAME:EST
DTSTART:20181104T060000
END:STANDARD
END:VTIMEZONE
BEGIN:VEVENT
DTSTART;TZID=America/New_York:20180117T190000
DTEND;TZID=America/New_York:20180117T220000
DTSTAMP:20260423T023658
CREATED:20180108T234550Z
LAST-MODIFIED:20180108T234700Z
UID:71864-1516215600-1516226400@www.14streety.org
SUMMARY:Women's League
DESCRIPTION:
URL:https://www.14streety.org/event/womens-league/2018-01-17/
END:VEVENT
END:VCALENDAR