BEGIN:VCALENDAR
VERSION:2.0
PRODID:-//14th Street Y - ECPv5.5.0.1//NONSGML v1.0//EN
CALSCALE:GREGORIAN
METHOD:PUBLISH
X-WR-CALNAME:14th Street Y
X-ORIGINAL-URL:https://www.14streety.org
X-WR-CALDESC:Events for 14th Street Y
BEGIN:VTIMEZONE
TZID:America/New_York
BEGIN:DAYLIGHT
TZOFFSETFROM:-0500
TZOFFSETTO:-0400
TZNAME:EDT
DTSTART:20180311T070000
END:DAYLIGHT
BEGIN:STANDARD
TZOFFSETFROM:-0400
TZOFFSETTO:-0500
TZNAME:EST
DTSTART:20181104T060000
END:STANDARD
END:VTIMEZONE
BEGIN:VEVENT
DTSTART;TZID=America/New_York:20180106T130000
DTEND;TZID=America/New_York:20180106T141500
DTSTAMP:20260422T041204
CREATED:20180103T155703Z
LAST-MODIFIED:20180103T173429Z
UID:69652-1515243600-1515248100@www.14streety.org
SUMMARY:Kundalini with Paola
DESCRIPTION:A journey through the chakras: Be the light\, spread the light! Enjoy breathing and quiet moments together for a well rounded yoga practice suitable and beneficial for all ages. \nFree for members. Non-members can purchase a $25 Day Pass at the front desk to attend.
URL:https://www.14streety.org/event/kundalini-with-paola/
ATTACH;FMTTYPE=image/png:https://www.14streety.org/wp-content/uploads/2018/01/Kundalini-with-Paola.png
END:VEVENT
END:VCALENDAR