BEGIN:VCALENDAR
VERSION:2.0
PRODID:-//14th Street Y - ECPv5.5.0.1//NONSGML v1.0//EN
CALSCALE:GREGORIAN
METHOD:PUBLISH
X-WR-CALNAME:14th Street Y
X-ORIGINAL-URL:https://www.14streety.org
X-WR-CALDESC:Events for 14th Street Y
BEGIN:VTIMEZONE
TZID:America/New_York
BEGIN:DAYLIGHT
TZOFFSETFROM:-0500
TZOFFSETTO:-0400
TZNAME:EDT
DTSTART:20190310T070000
END:DAYLIGHT
BEGIN:STANDARD
TZOFFSETFROM:-0400
TZOFFSETTO:-0500
TZNAME:EST
DTSTART:20191103T060000
END:STANDARD
END:VTIMEZONE
BEGIN:VEVENT
DTSTART;TZID=America/New_York:20190521T183000
DTEND;TZID=America/New_York:20190521T200000
DTSTAMP:20260421T133328
CREATED:20190506T165234Z
LAST-MODIFIED:20190507T162833Z
UID:83891-1558463400-1558468800@www.14streety.org
SUMMARY:Babymoon NYC with Honeymoon Israel
DESCRIPTION:The honeymoon is over! But you’re just beginning the next part of your family’s exciting journey.  Come join other expectant HMI parents\, along with Director of 14th Street Y Family Programs\, Dana Federbush\, 14th Street Y Community Catalyst and Parenting Educator\, Meredith Fein Lichtenberg and the Honeymoon Israel NYC team for an evening of mingling\, mocktails\, and dinner from Israeli restaurant\, Taim. This night will be a fun casual event where you can ask Meredith any questions about your pregnancy\, childbirth\, and new parent journey.  You will also learn more about the 14th street Y and connect with your new and old HMI friends.  You will leave with a goody bag\, plenty of new information\, and lots of laughs. \nThis event is free but pre-registration is required. \nMeredith Fein Lichtenberg\, IBCLC\, RC\, CCCE\, JD\, has taught prenatal and parenting classes since 2005 for every major prenatal education\norganization in New York City\, at numerous major corporations\, and privately all over Manhattan. She served on the Board of Directors of the Childbirth Education Association of Metropolitan New York for over ten years. Her focus is mothers’ changing identities through the childbirth years. Meredith received her B.A.\, magna cum laude\, from The University of Pennsylvania\, where she was elected to Phi Beta Kappa\, and her J.D. from Columbia University School of Law\, where she was a Harlan Fiske Stone Scholar and an editor of the Law Review.  She left the private practice of law in 2002 to begin working with new mothers. \nThis event is generously supported by UJA Federation of NY
URL:https://www.14streety.org/event/babymoon-nyc-with-honeymoon-israel/
CATEGORIES:Jewish Life
END:VEVENT
END:VCALENDAR